Package: proteasy Version: 1.2.0 Command: rm -rf proteasy.buildbin-libdir && mkdir proteasy.buildbin-libdir && F:\biocbuild\bbs-3.17-bioc\R\bin\R.exe CMD INSTALL --build --library=proteasy.buildbin-libdir proteasy_1.2.0.tar.gz StartedAt: 2023-10-16 09:18:03 -0400 (Mon, 16 Oct 2023) EndedAt: 2023-10-16 09:18:11 -0400 (Mon, 16 Oct 2023) EllapsedTime: 8.3 seconds RetCode: 0 Status: OK PackageFile: proteasy_1.2.0.zip PackageFileSize: 2.338 MiB