Package: proteasy Version: 1.2.0 Command: /Library/Frameworks/R.framework/Resources/bin/R CMD check --install=check:proteasy.install-out.txt --library=/Library/Frameworks/R.framework/Resources/library --no-vignettes --timings proteasy_1.2.0.tar.gz StartedAt: 2023-10-16 05:34:13 -0400 (Mon, 16 Oct 2023) EndedAt: 2023-10-16 05:36:20 -0400 (Mon, 16 Oct 2023) EllapsedTime: 127.1 seconds RetCode: 0 Status: OK CheckDir: proteasy.Rcheck Warnings: 0