Package: protGear Version: 1.4.0 Command: F:\biocbuild\bbs-3.17-bioc\R\bin\R.exe CMD INSTALL protGear StartedAt: 2023-10-15 16:59:25 -0400 (Sun, 15 Oct 2023) EndedAt: 2023-10-15 17:00:01 -0400 (Sun, 15 Oct 2023) EllapsedTime: 35.7 seconds RetCode: 0 Status: OK