Package: protGear Version: 1.4.0 Command: F:\biocbuild\bbs-3.17-bioc\R\bin\R.exe CMD check --no-multiarch --install=check:protGear.install-out.txt --library=F:\biocbuild\bbs-3.17-bioc\R\library --no-vignettes --timings protGear_1.4.0.tar.gz StartedAt: 2023-10-16 05:32:25 -0400 (Mon, 16 Oct 2023) EndedAt: 2023-10-16 05:35:31 -0400 (Mon, 16 Oct 2023) EllapsedTime: 185.3 seconds RetCode: 0 Status: OK CheckDir: protGear.Rcheck Warnings: 0