Package: protGear Version: 1.4.0 Command: chmod a+r protGear -R && F:\biocbuild\bbs-3.17-bioc\R\bin\R.exe CMD build --keep-empty-dirs --no-resave-data protGear StartedAt: 2023-10-15 21:29:43 -0400 (Sun, 15 Oct 2023) EndedAt: 2023-10-15 21:30:55 -0400 (Sun, 15 Oct 2023) EllapsedTime: 71.8 seconds RetCode: 0 Status: OK PackageFile: protGear_1.4.0.tar.gz PackageFileSize: 2.93 MiB