Package: protGear Version: 1.4.0 Command: rm -rf protGear.buildbin-libdir && mkdir protGear.buildbin-libdir && F:\biocbuild\bbs-3.17-bioc\R\bin\R.exe CMD INSTALL --build --library=protGear.buildbin-libdir protGear_1.4.0.tar.gz StartedAt: 2023-10-16 09:18:10 -0400 (Mon, 16 Oct 2023) EndedAt: 2023-10-16 09:18:58 -0400 (Mon, 16 Oct 2023) EllapsedTime: 48.0 seconds RetCode: 0 Status: OK PackageFile: protGear_1.4.0.zip PackageFileSize: 1.828 MiB