Package: protGear Version: 1.4.0 Command: /home/biocbuild/bbs-3.17-bioc/R/bin/R CMD INSTALL protGear StartedAt: 2023-10-15 15:46:15 -0400 (Sun, 15 Oct 2023) EndedAt: 2023-10-15 15:46:41 -0400 (Sun, 15 Oct 2023) EllapsedTime: 25.4 seconds RetCode: 0 Status: OK