Package: projectR Version: 1.16.0 Command: rm -rf projectR.buildbin-libdir && mkdir projectR.buildbin-libdir && F:\biocbuild\bbs-3.17-bioc\R\bin\R.exe CMD INSTALL --build --library=projectR.buildbin-libdir projectR_1.16.0.tar.gz StartedAt: 2023-10-16 09:17:42 -0400 (Mon, 16 Oct 2023) EndedAt: 2023-10-16 09:18:31 -0400 (Mon, 16 Oct 2023) EllapsedTime: 48.9 seconds RetCode: 0 Status: OK PackageFile: projectR_1.16.0.zip PackageFileSize: 1.054 MiB