Package: progeny Version: 1.22.0 Command: F:\biocbuild\bbs-3.17-bioc\R\bin\R.exe CMD check --no-multiarch --install=check:progeny.install-out.txt --library=F:\biocbuild\bbs-3.17-bioc\R\library --no-vignettes --timings progeny_1.22.0.tar.gz StartedAt: 2023-10-16 05:29:05 -0400 (Mon, 16 Oct 2023) EndedAt: 2023-10-16 05:30:54 -0400 (Mon, 16 Oct 2023) EllapsedTime: 108.6 seconds RetCode: 0 Status: OK CheckDir: progeny.Rcheck Warnings: 0