Package: progeny Version: 1.22.0 Command: /Library/Frameworks/R.framework/Resources/bin/R CMD check --install=check:progeny.install-out.txt --library=/Library/Frameworks/R.framework/Resources/library --no-vignettes --timings progeny_1.22.0.tar.gz StartedAt: 2023-10-16 05:32:03 -0400 (Mon, 16 Oct 2023) EndedAt: 2023-10-16 05:36:48 -0400 (Mon, 16 Oct 2023) EllapsedTime: 284.9 seconds RetCode: 0 Status: OK CheckDir: progeny.Rcheck Warnings: 0