Package: progeny Version: 1.22.0 Command: /Library/Frameworks/R.framework/Resources/bin/R CMD build --keep-empty-dirs --no-resave-data progeny StartedAt: 2023-10-15 20:24:56 -0400 (Sun, 15 Oct 2023) EndedAt: 2023-10-15 20:25:33 -0400 (Sun, 15 Oct 2023) EllapsedTime: 37.4 seconds RetCode: 0 Status: OK PackageFile: progeny_1.22.0.tar.gz PackageFileSize: 10.14 MiB