Package: profileplyr Version: 1.16.0 Command: rm -rf profileplyr.buildbin-libdir && mkdir profileplyr.buildbin-libdir && F:\biocbuild\bbs-3.17-bioc\R\bin\R.exe CMD INSTALL --build --library=profileplyr.buildbin-libdir profileplyr_1.16.0.tar.gz StartedAt: 2023-10-16 09:17:37 -0400 (Mon, 16 Oct 2023) EndedAt: 2023-10-16 09:18:56 -0400 (Mon, 16 Oct 2023) EllapsedTime: 79.2 seconds RetCode: 0 Status: OK PackageFile: profileplyr_1.16.0.zip PackageFileSize: 2.315 MiB