Package: profileplyr Version: 1.16.0 Command: /home/biocbuild/bbs-3.17-bioc/R/bin/R CMD build --keep-empty-dirs --no-resave-data profileplyr StartedAt: 2023-10-15 18:01:21 -0400 (Sun, 15 Oct 2023) EndedAt: 2023-10-15 18:03:37 -0400 (Sun, 15 Oct 2023) EllapsedTime: 136.9 seconds RetCode: 0 Status: OK PackageFile: profileplyr_1.16.0.tar.gz PackageFileSize: 2.412 MiB