Package: proBAMr Version: 1.34.0 Command: /Library/Frameworks/R.framework/Resources/bin/R CMD INSTALL proBAMr StartedAt: 2023-10-15 15:42:40 -0400 (Sun, 15 Oct 2023) EndedAt: 2023-10-15 15:44:26 -0400 (Sun, 15 Oct 2023) EllapsedTime: 106.5 seconds RetCode: 0 Status: OK