Package: proActiv Version: 1.10.0 Command: chmod a+r proActiv -R && F:\biocbuild\bbs-3.17-bioc\R\bin\R.exe CMD build --keep-empty-dirs --no-resave-data proActiv StartedAt: 2023-10-15 21:27:21 -0400 (Sun, 15 Oct 2023) EndedAt: 2023-10-15 21:28:22 -0400 (Sun, 15 Oct 2023) EllapsedTime: 60.9 seconds RetCode: 0 Status: OK PackageFile: proActiv_1.10.0.tar.gz PackageFileSize: 2.572 MiB