Package: proActiv Version: 1.10.0 Command: rm -rf proActiv.buildbin-libdir && mkdir proActiv.buildbin-libdir && F:\biocbuild\bbs-3.17-bioc\R\bin\R.exe CMD INSTALL --build --library=proActiv.buildbin-libdir proActiv_1.10.0.tar.gz StartedAt: 2023-10-16 09:17:18 -0400 (Mon, 16 Oct 2023) EndedAt: 2023-10-16 09:18:08 -0400 (Mon, 16 Oct 2023) EllapsedTime: 49.9 seconds RetCode: 0 Status: OK PackageFile: proActiv_1.10.0.zip PackageFileSize: 2.672 MiB