Package: proActiv Version: 1.10.0 Command: /Library/Frameworks/R.framework/Resources/bin/R CMD check --install=check:proActiv.install-out.txt --library=/Library/Frameworks/R.framework/Resources/library --no-vignettes --timings proActiv_1.10.0.tar.gz StartedAt: 2023-10-16 05:29:14 -0400 (Mon, 16 Oct 2023) EndedAt: 2023-10-16 05:42:54 -0400 (Mon, 16 Oct 2023) EllapsedTime: 819.6 seconds RetCode: 0 Status: OK CheckDir: proActiv.Rcheck Warnings: 0