Package: proActiv Version: 1.10.0 Command: rm -rf proActiv.buildbin-libdir && mkdir proActiv.buildbin-libdir && /Users/biocbuild/BBS/utils/build-universal.sh proActiv_1.10.0.tar.gz /Library/Frameworks/R.framework/Resources/bin/R proActiv.buildbin-libdir StartedAt: 2023-10-16 09:56:59 -0400 (Mon, 16 Oct 2023) EndedAt: 2023-10-16 09:59:03 -0400 (Mon, 16 Oct 2023) EllapsedTime: 124.1 seconds RetCode: 0 Status: OK PackageFile: proActiv_1.10.0.tgz PackageFileSize: 2.75 MiB