Package: primirTSS Version: 1.18.0 Command: /home/biocbuild/bbs-3.17-bioc/R/bin/R CMD build --keep-empty-dirs --no-resave-data primirTSS StartedAt: 2023-10-15 18:00:20 -0400 (Sun, 15 Oct 2023) EndedAt: 2023-10-15 18:01:20 -0400 (Sun, 15 Oct 2023) EllapsedTime: 60.5 seconds RetCode: 0 Status: OK PackageFile: primirTSS_1.18.0.tar.gz PackageFileSize: 3.663 MiB