Package: primirTSS Version: 1.18.0 Command: /Library/Frameworks/R.framework/Resources/bin/R CMD check --install=check:primirTSS.install-out.txt --library=/Library/Frameworks/R.framework/Resources/library --no-vignettes --timings primirTSS_1.18.0.tar.gz StartedAt: 2023-10-16 05:28:42 -0400 (Mon, 16 Oct 2023) EndedAt: 2023-10-16 05:39:36 -0400 (Mon, 16 Oct 2023) EllapsedTime: 654.0 seconds RetCode: 0 Status: WARNINGS CheckDir: primirTSS.Rcheck Warnings: 1