Package: preprocessCore Version: 1.62.1 Command: /home/biocbuild/bbs-3.17-bioc/R/bin/R CMD build --keep-empty-dirs --no-resave-data preprocessCore StartedAt: 2023-10-15 18:00:19 -0400 (Sun, 15 Oct 2023) EndedAt: 2023-10-15 18:00:20 -0400 (Sun, 15 Oct 2023) EllapsedTime: 1.0 seconds RetCode: 0 Status: OK PackageFile: preprocessCore_1.62.1.tar.gz PackageFileSize: 121.1 KiB