Package: preprocessCore Version: 1.62.1 Command: /Library/Frameworks/R.framework/Resources/bin/R CMD INSTALL preprocessCore StartedAt: 2023-10-15 15:03:44 -0400 (Sun, 15 Oct 2023) EndedAt: 2023-10-15 15:04:07 -0400 (Sun, 15 Oct 2023) EllapsedTime: 23.6 seconds RetCode: 0 Status: OK