Package: preprocessCore Version: 1.62.1 Command: /Library/Frameworks/R.framework/Resources/bin/R CMD build --keep-empty-dirs --no-resave-data preprocessCore StartedAt: 2023-10-15 20:22:35 -0400 (Sun, 15 Oct 2023) EndedAt: 2023-10-15 20:22:37 -0400 (Sun, 15 Oct 2023) EllapsedTime: 2.0 seconds RetCode: 0 Status: OK PackageFile: preprocessCore_1.62.1.tar.gz PackageFileSize: 121.1 KiB