Package: preprocessCore Version: 1.62.1 Command: rm -rf preprocessCore.buildbin-libdir && mkdir preprocessCore.buildbin-libdir && /Users/biocbuild/BBS/utils/build-universal.sh preprocessCore_1.62.1.tar.gz /Library/Frameworks/R.framework/Resources/bin/R preprocessCore.buildbin-libdir StartedAt: 2023-10-16 09:56:51 -0400 (Mon, 16 Oct 2023) EndedAt: 2023-10-16 09:57:30 -0400 (Mon, 16 Oct 2023) EllapsedTime: 38.8 seconds RetCode: 0 Status: OK PackageFile: preprocessCore_1.62.1.tgz PackageFileSize: 192.2 KiB