Package: preciseTAD Version: 1.10.0 Command: F:\biocbuild\bbs-3.17-bioc\R\bin\R.exe CMD INSTALL preciseTAD StartedAt: 2023-10-15 16:48:07 -0400 (Sun, 15 Oct 2023) EndedAt: 2023-10-15 16:49:01 -0400 (Sun, 15 Oct 2023) EllapsedTime: 54.7 seconds RetCode: 0 Status: OK