Package: preciseTAD Version: 1.10.0 Command: F:\biocbuild\bbs-3.17-bioc\R\bin\R.exe CMD check --no-multiarch --install=check:preciseTAD.install-out.txt --library=F:\biocbuild\bbs-3.17-bioc\R\library --no-vignettes --timings preciseTAD_1.10.0.tar.gz StartedAt: 2023-10-16 05:25:53 -0400 (Mon, 16 Oct 2023) EndedAt: 2023-10-16 05:35:56 -0400 (Mon, 16 Oct 2023) EllapsedTime: 603.0 seconds RetCode: 0 Status: OK CheckDir: preciseTAD.Rcheck Warnings: 0