Package: preciseTAD Version: 1.10.0 Command: chmod a+r preciseTAD -R && F:\biocbuild\bbs-3.17-bioc\R\bin\R.exe CMD build --keep-empty-dirs --no-resave-data preciseTAD StartedAt: 2023-10-15 21:26:37 -0400 (Sun, 15 Oct 2023) EndedAt: 2023-10-15 21:30:18 -0400 (Sun, 15 Oct 2023) EllapsedTime: 220.4 seconds RetCode: 0 Status: OK PackageFile: preciseTAD_1.10.0.tar.gz PackageFileSize: 4.056 MiB