Package: preciseTAD Version: 1.10.0 Command: rm -rf preciseTAD.buildbin-libdir && mkdir preciseTAD.buildbin-libdir && F:\biocbuild\bbs-3.17-bioc\R\bin\R.exe CMD INSTALL --build --library=preciseTAD.buildbin-libdir preciseTAD_1.10.0.tar.gz StartedAt: 2023-10-16 09:16:59 -0400 (Mon, 16 Oct 2023) EndedAt: 2023-10-16 09:17:56 -0400 (Mon, 16 Oct 2023) EllapsedTime: 56.9 seconds RetCode: 0 Status: OK PackageFile: preciseTAD_1.10.0.zip PackageFileSize: 4.791 MiB