Package: preciseTAD Version: 1.10.0 Command: /home/biocbuild/bbs-3.17-bioc/R/bin/R CMD INSTALL preciseTAD StartedAt: 2023-10-15 15:40:13 -0400 (Sun, 15 Oct 2023) EndedAt: 2023-10-15 15:40:59 -0400 (Sun, 15 Oct 2023) EllapsedTime: 46.2 seconds RetCode: 0 Status: OK