Package: preciseTAD Version: 1.10.0 Command: /home/biocbuild/bbs-3.17-bioc/R/bin/R CMD check --install=check:preciseTAD.install-out.txt --library=/home/biocbuild/bbs-3.17-bioc/R/site-library --timings preciseTAD_1.10.0.tar.gz StartedAt: 2023-10-15 23:58:58 -0400 (Sun, 15 Oct 2023) EndedAt: 2023-10-16 00:12:28 -0400 (Mon, 16 Oct 2023) EllapsedTime: 809.9 seconds RetCode: 0 Status: OK CheckDir: preciseTAD.Rcheck Warnings: 0