Package: preciseTAD Version: 1.10.0 Command: /home/biocbuild/bbs-3.17-bioc/R/bin/R CMD build --keep-empty-dirs --no-resave-data preciseTAD StartedAt: 2023-10-15 18:00:08 -0400 (Sun, 15 Oct 2023) EndedAt: 2023-10-15 18:04:05 -0400 (Sun, 15 Oct 2023) EllapsedTime: 237.8 seconds RetCode: 0 Status: OK PackageFile: preciseTAD_1.10.0.tar.gz PackageFileSize: 4.072 MiB