Package: preciseTAD Version: 1.10.0 Command: /Library/Frameworks/R.framework/Resources/bin/R CMD build --keep-empty-dirs --no-resave-data preciseTAD StartedAt: 2023-10-15 20:21:55 -0400 (Sun, 15 Oct 2023) EndedAt: 2023-10-15 20:29:50 -0400 (Sun, 15 Oct 2023) EllapsedTime: 475.2 seconds RetCode: 0 Status: OK PackageFile: preciseTAD_1.10.0.tar.gz PackageFileSize: 4.074 MiB