Package: prebs Version: 1.40.0 Command: chmod a+r prebs -R && F:\biocbuild\bbs-3.17-bioc\R\bin\R.exe CMD build --keep-empty-dirs --no-resave-data prebs StartedAt: 2023-10-15 21:26:34 -0400 (Sun, 15 Oct 2023) EndedAt: 2023-10-15 21:31:00 -0400 (Sun, 15 Oct 2023) EllapsedTime: 266.0 seconds RetCode: 0 Status: OK PackageFile: prebs_1.40.0.tar.gz PackageFileSize: 146.6 KiB