Package: prebs Version: 1.40.0 Command: rm -rf prebs.buildbin-libdir && mkdir prebs.buildbin-libdir && F:\biocbuild\bbs-3.17-bioc\R\bin\R.exe CMD INSTALL --build --library=prebs.buildbin-libdir prebs_1.40.0.tar.gz StartedAt: 2023-10-16 09:16:57 -0400 (Mon, 16 Oct 2023) EndedAt: 2023-10-16 09:17:35 -0400 (Mon, 16 Oct 2023) EllapsedTime: 37.5 seconds RetCode: 0 Status: OK PackageFile: prebs_1.40.0.zip PackageFileSize: 275.5 KiB