Package: pqsfinder Version: 2.16.0 Command: rm -rf pqsfinder.buildbin-libdir && mkdir pqsfinder.buildbin-libdir && F:\biocbuild\bbs-3.17-bioc\R\bin\R.exe CMD INSTALL --build --library=pqsfinder.buildbin-libdir pqsfinder_2.16.0.tar.gz StartedAt: 2023-10-16 09:16:50 -0400 (Mon, 16 Oct 2023) EndedAt: 2023-10-16 09:17:48 -0400 (Mon, 16 Oct 2023) EllapsedTime: 58.3 seconds RetCode: 0 Status: OK PackageFile: pqsfinder_2.16.0.zip PackageFileSize: 1.285 MiB