Package: ppcseq Version: 1.8.1 Command: /home/biocbuild/bbs-3.17-bioc/R/bin/R CMD check --install=check:ppcseq.install-out.txt --library=/home/biocbuild/bbs-3.17-bioc/R/site-library --timings ppcseq_1.8.1.tar.gz StartedAt: 2023-10-15 23:58:02 -0400 (Sun, 15 Oct 2023) EndedAt: 2023-10-16 00:13:36 -0400 (Mon, 16 Oct 2023) EllapsedTime: 933.9 seconds RetCode: 0 Status: OK CheckDir: ppcseq.Rcheck Warnings: 0