Package: ppcseq Version: 1.8.1 Command: /Library/Frameworks/R.framework/Resources/bin/R CMD INSTALL ppcseq StartedAt: 2023-10-15 15:24:11 -0400 (Sun, 15 Oct 2023) EndedAt: 2023-10-15 15:29:45 -0400 (Sun, 15 Oct 2023) EllapsedTime: 334.5 seconds RetCode: 0 Status: OK