Package: powerTCR Version: 1.20.0 Command: rm -rf powerTCR.buildbin-libdir && mkdir powerTCR.buildbin-libdir && F:\biocbuild\bbs-3.17-bioc\R\bin\R.exe CMD INSTALL --build --library=powerTCR.buildbin-libdir powerTCR_1.20.0.tar.gz StartedAt: 2023-10-16 09:16:44 -0400 (Mon, 16 Oct 2023) EndedAt: 2023-10-16 09:16:56 -0400 (Mon, 16 Oct 2023) EllapsedTime: 12.2 seconds RetCode: 0 Status: OK PackageFile: powerTCR_1.20.0.zip PackageFileSize: 405.1 KiB