Package: powerTCR Version: 1.20.0 Command: /home/biocbuild/bbs-3.17-bioc/R/bin/R CMD build --keep-empty-dirs --no-resave-data powerTCR StartedAt: 2023-10-15 17:59:38 -0400 (Sun, 15 Oct 2023) EndedAt: 2023-10-15 18:00:03 -0400 (Sun, 15 Oct 2023) EllapsedTime: 24.6 seconds RetCode: 0 Status: OK PackageFile: powerTCR_1.20.0.tar.gz PackageFileSize: 344.1 KiB