Package: podkat Version: 1.32.0 Command: /Library/Frameworks/R.framework/Resources/bin/R CMD INSTALL podkat StartedAt: 2023-10-15 15:37:18 -0400 (Sun, 15 Oct 2023) EndedAt: 2023-10-15 15:41:58 -0400 (Sun, 15 Oct 2023) EllapsedTime: 279.6 seconds RetCode: 0 Status: OK