Package: podkat Version: 1.32.0 Command: /Library/Frameworks/R.framework/Resources/bin/R CMD check --install=check:podkat.install-out.txt --library=/Library/Frameworks/R.framework/Resources/library --no-vignettes --timings podkat_1.32.0.tar.gz StartedAt: 2023-10-16 05:22:51 -0400 (Mon, 16 Oct 2023) EndedAt: 2023-10-16 05:35:54 -0400 (Mon, 16 Oct 2023) EllapsedTime: 783.0 seconds RetCode: 0 Status: WARNINGS CheckDir: podkat.Rcheck Warnings: 1