Package: podkat Version: 1.32.0 Command: rm -rf podkat.buildbin-libdir && mkdir podkat.buildbin-libdir && /Users/biocbuild/BBS/utils/build-universal.sh podkat_1.32.0.tar.gz /Library/Frameworks/R.framework/Resources/bin/R podkat.buildbin-libdir StartedAt: 2023-10-16 09:56:20 -0400 (Mon, 16 Oct 2023) EndedAt: 2023-10-16 10:01:22 -0400 (Mon, 16 Oct 2023) EllapsedTime: 302.1 seconds RetCode: 0 Status: OK PackageFile: podkat_1.32.0.tgz PackageFileSize: 2.344 MiB