Package: pmp Version: 1.12.0 Command: /Library/Frameworks/R.framework/Resources/bin/R CMD build --keep-empty-dirs --no-resave-data pmp StartedAt: 2023-10-15 20:20:26 -0400 (Sun, 15 Oct 2023) EndedAt: 2023-10-15 20:24:15 -0400 (Sun, 15 Oct 2023) EllapsedTime: 229.0 seconds RetCode: 0 Status: OK PackageFile: pmp_1.12.0.tar.gz PackageFileSize: 4.754 MiB