Package: pmm Version: 1.32.0 Command: rm -rf pmm.buildbin-libdir && mkdir pmm.buildbin-libdir && F:\biocbuild\bbs-3.17-bioc\R\bin\R.exe CMD INSTALL --build --library=pmm.buildbin-libdir pmm_1.32.0.tar.gz StartedAt: 2023-10-16 09:16:31 -0400 (Mon, 16 Oct 2023) EndedAt: 2023-10-16 09:16:47 -0400 (Mon, 16 Oct 2023) EllapsedTime: 15.5 seconds RetCode: 0 Status: OK PackageFile: pmm_1.32.0.zip PackageFileSize: 681.3 KiB