Package: pmm Version: 1.32.0 Command: /home/biocbuild/bbs-3.17-bioc/R/bin/R CMD build --keep-empty-dirs --no-resave-data pmm StartedAt: 2023-10-15 17:59:17 -0400 (Sun, 15 Oct 2023) EndedAt: 2023-10-15 17:59:40 -0400 (Sun, 15 Oct 2023) EllapsedTime: 23.2 seconds RetCode: 0 Status: OK PackageFile: pmm_1.32.0.tar.gz PackageFileSize: 643.8 KiB