Package: pmm Version: 1.32.0 Command: /Library/Frameworks/R.framework/Resources/bin/R CMD INSTALL pmm StartedAt: 2023-10-15 15:52:49 -0400 (Sun, 15 Oct 2023) EndedAt: 2023-10-15 15:53:11 -0400 (Sun, 15 Oct 2023) EllapsedTime: 21.9 seconds RetCode: 0 Status: OK