Package: pmm Version: 1.32.0 Command: rm -rf pmm.buildbin-libdir && mkdir pmm.buildbin-libdir && /Users/biocbuild/BBS/utils/build-universal.sh pmm_1.32.0.tar.gz /Library/Frameworks/R.framework/Resources/bin/R pmm.buildbin-libdir StartedAt: 2023-10-16 09:56:16 -0400 (Mon, 16 Oct 2023) EndedAt: 2023-10-16 09:56:39 -0400 (Mon, 16 Oct 2023) EllapsedTime: 22.6 seconds RetCode: 0 Status: OK PackageFile: pmm_1.32.0.tgz PackageFileSize: 809.6 KiB