Package: plyranges Version: 1.20.0 Command: rm -rf plyranges.buildbin-libdir && mkdir plyranges.buildbin-libdir && F:\biocbuild\bbs-3.17-bioc\R\bin\R.exe CMD INSTALL --build --library=plyranges.buildbin-libdir plyranges_1.20.0.tar.gz StartedAt: 2023-10-16 09:16:30 -0400 (Mon, 16 Oct 2023) EndedAt: 2023-10-16 09:17:26 -0400 (Mon, 16 Oct 2023) EllapsedTime: 56.5 seconds RetCode: 0 Status: OK PackageFile: plyranges_1.20.0.zip PackageFileSize: 1.528 MiB