Package: plyranges Version: 1.20.0 Command: /home/biocbuild/bbs-3.17-bioc/R/bin/R CMD check --install=check:plyranges.install-out.txt --library=/home/biocbuild/bbs-3.17-bioc/R/site-library --timings plyranges_1.20.0.tar.gz StartedAt: 2023-10-15 23:56:07 -0400 (Sun, 15 Oct 2023) EndedAt: 2023-10-16 00:00:47 -0400 (Mon, 16 Oct 2023) EllapsedTime: 279.3 seconds RetCode: 0 Status: WARNINGS CheckDir: plyranges.Rcheck Warnings: 2