Package: plyranges Version: 1.20.0 Command: /Library/Frameworks/R.framework/Resources/bin/R CMD check --install=check:plyranges.install-out.txt --library=/Library/Frameworks/R.framework/Resources/library --no-vignettes --timings plyranges_1.20.0.tar.gz StartedAt: 2023-10-16 05:21:31 -0400 (Mon, 16 Oct 2023) EndedAt: 2023-10-16 05:33:22 -0400 (Mon, 16 Oct 2023) EllapsedTime: 710.7 seconds RetCode: 0 Status: WARNINGS CheckDir: plyranges.Rcheck Warnings: 2